BEGIN:VCALENDAR
PRODID:-//PUBBLE//agenda//NL
VERSION:2.0
METHOD:PUBLISH
BEGIN:VEVENT
DTSTART:20241005T180000Z
DTEND:20241005T233000Z
DTSTAMP:20260425T143721Z
UID:9a2d2b80-438a-4e78-b5e5-97373aef4c15
CREATED:20260425T143721Z
NAME:Drag show bij SHOUT stadwageningen.nl
X-WR-CALNAME:Drag show bij SHOUT
X-ALT-DESC;FMTTYPE=text/html:<a href='/agenda/2024/10/5/drag-show-bij-shout-1077825'>/agenda/2024/10/5/drag-show-bij-shout-1077825</a> || <p>Het is weer tijd voor de legendarische SHOUT Drag Night op zaterdag 5 oktober. Een show met Kings en Queens die op het podium meer zullen schitteren dan de sterren aan de hemel.&nbsp;</p><p>Op het podium staan Tante Ger (tevens de host), Boots, Mckayla Rose, Ekkie, Christopher Rascal, Venus Hill, Party Ria en een naam die nog even een verrassing blijft.&nbsp;</p><p>Om 20:00 gaan de deuren open voor een drankje en om 21:00 start de show. Na de show dansen en feesten we nog tot 01:30 met DJ Robin Elyza.</p><p>Tickets kosten 10 euro en SHOUT leden krijgen 2,50 korting met hun persoonlijke kortingscode.Ga naar onze website voor je kaartje: https://shoutwageningen.nl/product/shout-drag-night-5-okt/</p>
DESCRIPTION:<a href='/agenda/2024/10/5/drag-show-bij-shout-1077825'>/agenda/2024/10/5/drag-show-bij-shout-1077825</a> || <p>Het is weer tijd voor de legendarische SHOUT Drag Night op zaterdag 5 oktober. Een show met Kings en Queens die op het podium meer zullen schitteren dan de sterren aan de hemel.&nbsp;</p><p>Op het podium staan Tante Ger (tevens de host), Boots, Mckayla Rose, Ekkie, Christopher Rascal, Venus Hill, Party Ria en een naam die nog even een verrassing blijft.&nbsp;</p><p>Om 20:00 gaan de deuren open voor een drankje en om 21:00 start de show. Na de show dansen en feesten we nog tot 01:30 met DJ Robin Elyza.</p><p>Tickets kosten 10 euro en SHOUT leden krijgen 2,50 korting met hun persoonlijke kortingscode.Ga naar onze website voor je kaartje: https://shoutwageningen.nl/product/shout-drag-night-5-okt/</p>
LAST-MODIFIED:20260425T143721Z
LOCATION: SHOUT Wageningen | Burgtstraat 1 Wageningen
SEQUENCE:0
STATUS:CONFIRMED
SUMMARY:Drag show bij SHOUT
TRANSP:OPAQUE
END:VEVENT
END:VCALENDAR
