BEGIN:VCALENDAR
PRODID:-//PUBBLE//agenda//NL
VERSION:2.0
METHOD:PUBLISH
BEGIN:VEVENT
DTSTART:20260518T180000Z
DTEND:20260518T200000Z
DTSTAMP:20260422T074310Z
UID:8a33b682-2c77-4efa-b6ca-f93ca21db906
CREATED:20260422T074310Z
NAME:Open avond over Dan Brown’s “Het Ultieme Geheim” stadwageningen.nl
X-WR-CALNAME:Open avond over Dan Brown’s “Het Ultieme Geheim”
X-ALT-DESC;FMTTYPE=text/html:<a href='/agenda/2026/5/18/open-avond-over-dan-browns-het-ultieme-geheim--1266163'>/agenda/2026/5/18/open-avond-over-dan-browns-het-ultieme-geheim--1266163</a> || <p>Op maandag 18 mei 2026 &nbsp;is er een open avond in de Loge “De Korenschoof” De Loge heeft leden in de hele Gelderse Vallei en Overbetuwe. De maandag is de standaard avond voor de loge-bijeenkomsten, maar deze bijzondere avond staat ook open voor andere belangstellenden.&nbsp;</p><p>Het thema van de avond is het boek van Dan Brown “Het ultieme geheim”. De spirituele en filosofische thema’s die Dan Brown aanspreekt zijn natuurlijk ook zeker boeiend voor vrijmetselaars. Hij schrijft er dus ook vaker over. Bovendien gaat dit boek ook over de grens tussen wetenschap en spiritualiteit en dan zijn de wetenschappers in Wageningen wel van de partij, zo ook in de loge.&nbsp;</p><p>Voor belangstellenden die willen weten hoe Vrijmetselaars kijken naar de zaken die Dan Brown aanraakt is deze avond eigenlijk bedoeld. En omdat we dit jaar ons 70-jarig bestaan vieren is de toegang gratis. De avond begint om 20:00 inloop en koffie vanaf 19:30 in het gebouw van de Vrijmetselarij, Niemeijerstraat 4, Wageningen. Gezien de beperkte ruimte is het wel zaak dat u zich vooraf aanmeldt bij de secretaris. Via secretaris.loge206@vrijmetselarij.nl</p>
DESCRIPTION:<a href='/agenda/2026/5/18/open-avond-over-dan-browns-het-ultieme-geheim--1266163'>/agenda/2026/5/18/open-avond-over-dan-browns-het-ultieme-geheim--1266163</a> || <p>Op maandag 18 mei 2026 &nbsp;is er een open avond in de Loge “De Korenschoof” De Loge heeft leden in de hele Gelderse Vallei en Overbetuwe. De maandag is de standaard avond voor de loge-bijeenkomsten, maar deze bijzondere avond staat ook open voor andere belangstellenden.&nbsp;</p><p>Het thema van de avond is het boek van Dan Brown “Het ultieme geheim”. De spirituele en filosofische thema’s die Dan Brown aanspreekt zijn natuurlijk ook zeker boeiend voor vrijmetselaars. Hij schrijft er dus ook vaker over. Bovendien gaat dit boek ook over de grens tussen wetenschap en spiritualiteit en dan zijn de wetenschappers in Wageningen wel van de partij, zo ook in de loge.&nbsp;</p><p>Voor belangstellenden die willen weten hoe Vrijmetselaars kijken naar de zaken die Dan Brown aanraakt is deze avond eigenlijk bedoeld. En omdat we dit jaar ons 70-jarig bestaan vieren is de toegang gratis. De avond begint om 20:00 inloop en koffie vanaf 19:30 in het gebouw van de Vrijmetselarij, Niemeijerstraat 4, Wageningen. Gezien de beperkte ruimte is het wel zaak dat u zich vooraf aanmeldt bij de secretaris. Via secretaris.loge206@vrijmetselarij.nl</p>
LAST-MODIFIED:20260422T074310Z
LOCATION: Stichting Wageningse Vrijmetselaarsloges | Niemeijerstraat 4 Wageningen
SEQUENCE:0
STATUS:CONFIRMED
SUMMARY:Open avond over Dan Brown’s “Het Ultieme Geheim”
TRANSP:OPAQUE
END:VEVENT
END:VCALENDAR
