BEGIN:VCALENDAR
PRODID:-//PUBBLE//agenda//NL
VERSION:2.0
METHOD:PUBLISH
BEGIN:VEVENT
DTSTART:20260423T180000Z
DTEND:20260423T200000Z
DTSTAMP:20260422T073548Z
UID:61b378b6-1bbb-4868-8ddb-250068a8fa4d
CREATED:20260422T073548Z
NAME:Interessante lezing Roel Meijvis stadwageningen.nl
X-WR-CALNAME:Interessante lezing Roel Meijvis
X-ALT-DESC;FMTTYPE=text/html:<a href='/agenda/2026/4/23/interessante-lezing-roel-meijvis-1267711'>/agenda/2026/4/23/interessante-lezing-roel-meijvis-1267711</a> || <p>Op 23 april 2026 organiseert Rotaryclub Wageningen een lezing in Hotel De Wereld door de jonge inspirerende filosoof/ theatermaker Roel Meijvis (1995). De lezing is open voor iedereen, maar aanmelden is noodzakelijk. Roel Meijvis is genomineerd voor de Socratesbeker 2026. Aanleiding om hem uit te nodigen, is zijn onlangs verschenen boek ‘Waar verzet begint’. De avond is bedoeld voor iedereen die geïnteresseerd is in deze spreker en voor mensen die meer willen weten over de Rotaryclub. Inloop vanaf 19:30 uur, de lezing start om 20 uur. De toegang is gratis en het aantal plaatsen is beperkt. Meld je nu aan via www.rotarywageningen.nl.</p><p>ACTIE</p><p>In de lezing gaat Roel op zoek naar de vraag wat ons handelen richting geeft in een wereld waarin we overspoeld worden met toenemende dreiging en niet te bevatten ontwikkelingen op vrijwel alle thema’s, van klimaat tot medemenselijkheid. Dat vraagt om actie. Maar wat voor actie precies? En wat zou ons daartoe kunnen bewegen?&nbsp;</p><p>ACHTERGROND ROEL MEIJVIS</p><p>Roel Meijvis behaalde zijn master aan de Universiteit van Amsterdam in de richting Art, Culture and Critique met een scriptie over De Beauvoir, Sartre en Merleau-Ponty. Eind 2025 verscheen zijn boek ‘Waar verzet begint’, een filosofie van activisme. In 2019 won Roel de essaywedstrijd van Nexus Connect. Hij publiceerde vele artikelen en essays over filosofie, theater en ethiek, in o.a. het Parool, De Groene Amsterdammer, NRC, de Theaterkrant. Hij is een veelgevraagd spreker op filosofische podia, en festivals (w.o. The Great White Open).&nbsp;</p><p>ROTARYCLUB WAGENINGEN</p><p>Deze serviceclub komt elke donderdagavond samen. Er zijn op dit moment 29 leden. Doel is om vanuit een basis van vriendschap en dienstbaarheid bij te dragen aan maatschappelijk projecten of activiteiten. Er is ruimte voor nieuwe leden.</p><p>Voor meer informatie en aanmelden voor de lezing ga naar www.rotarywageningen.nl.</p>
DESCRIPTION:<a href='/agenda/2026/4/23/interessante-lezing-roel-meijvis-1267711'>/agenda/2026/4/23/interessante-lezing-roel-meijvis-1267711</a> || <p>Op 23 april 2026 organiseert Rotaryclub Wageningen een lezing in Hotel De Wereld door de jonge inspirerende filosoof/ theatermaker Roel Meijvis (1995). De lezing is open voor iedereen, maar aanmelden is noodzakelijk. Roel Meijvis is genomineerd voor de Socratesbeker 2026. Aanleiding om hem uit te nodigen, is zijn onlangs verschenen boek ‘Waar verzet begint’. De avond is bedoeld voor iedereen die geïnteresseerd is in deze spreker en voor mensen die meer willen weten over de Rotaryclub. Inloop vanaf 19:30 uur, de lezing start om 20 uur. De toegang is gratis en het aantal plaatsen is beperkt. Meld je nu aan via www.rotarywageningen.nl.</p><p>ACTIE</p><p>In de lezing gaat Roel op zoek naar de vraag wat ons handelen richting geeft in een wereld waarin we overspoeld worden met toenemende dreiging en niet te bevatten ontwikkelingen op vrijwel alle thema’s, van klimaat tot medemenselijkheid. Dat vraagt om actie. Maar wat voor actie precies? En wat zou ons daartoe kunnen bewegen?&nbsp;</p><p>ACHTERGROND ROEL MEIJVIS</p><p>Roel Meijvis behaalde zijn master aan de Universiteit van Amsterdam in de richting Art, Culture and Critique met een scriptie over De Beauvoir, Sartre en Merleau-Ponty. Eind 2025 verscheen zijn boek ‘Waar verzet begint’, een filosofie van activisme. In 2019 won Roel de essaywedstrijd van Nexus Connect. Hij publiceerde vele artikelen en essays over filosofie, theater en ethiek, in o.a. het Parool, De Groene Amsterdammer, NRC, de Theaterkrant. Hij is een veelgevraagd spreker op filosofische podia, en festivals (w.o. The Great White Open).&nbsp;</p><p>ROTARYCLUB WAGENINGEN</p><p>Deze serviceclub komt elke donderdagavond samen. Er zijn op dit moment 29 leden. Doel is om vanuit een basis van vriendschap en dienstbaarheid bij te dragen aan maatschappelijk projecten of activiteiten. Er is ruimte voor nieuwe leden.</p><p>Voor meer informatie en aanmelden voor de lezing ga naar www.rotarywageningen.nl.</p>
LAST-MODIFIED:20260422T073548Z
LOCATION: Hotel de Wereld | 5 Mei Plein 1 Wageningen
SEQUENCE:0
STATUS:CONFIRMED
SUMMARY:Interessante lezing Roel Meijvis
TRANSP:OPAQUE
END:VEVENT
END:VCALENDAR
