BEGIN:VCALENDAR
PRODID:-//PUBBLE//agenda//NL
VERSION:2.0
METHOD:PUBLISH
BEGIN:VEVENT
DTSTART:20260619T070000Z
DTEND:20260619T100000Z
DTSTAMP:20260422T074607Z
UID:e3dfb578-81bf-4479-b915-8190f2606fbb
CREATED:20260422T074607Z
NAME:Vier midzomer in het Arboretum Oostereng met een Zweedse bosbadgids stadwageningen.nl
X-WR-CALNAME:Vier midzomer in het Arboretum Oostereng met een Zweedse bosbadgids
X-ALT-DESC;FMTTYPE=text/html:<a href='/agenda/2026/6/19/vier-midzomer-in-het-arboretum-oostereng-met-een-zweedse-bosbadgids-1268140'>/agenda/2026/6/19/vier-midzomer-in-het-arboretum-oostereng-met-een-zweedse-bosbadgids-1268140</a> || <p>In Zweden vieren we Midsommar met bloemen in het haar, dans om een versierde paal en een dag vol natuur en samenzijn. Een feest dat draait om eenvoud, verbinding en buiten zijn.</p><p>Dit jaar nodig ik jullie uit om deze dag samen met mij te vieren – op z’n Zweeds, in het verborgen Arboretum Oostereng. Niet met dans, maar met een rustige onderdompeling in de zomerse natuur. Zintuigen open, hoofd leeg, zomer binnen. Je vertrekt rustiger en opgeladen – klaar voor de rest van de zomer.</p><p><strong>Bosbaden&nbsp;</strong>– of shinrin-yoku – is een Japanse praktijk waarbij je bewust en langzaam door de natuur beweegt. Niet om kilometers te maken, maar om echt aanwezig te zijn. Met alle zintuigen. Onderzoek laat zien dat regelmatig contact met natuur meetbare effecten heeft op onze gezondheid – en bosbaden is daar een begeleide, toegankelijke vorm van.</p><p>Als gecertificeerd bosbadgids leer ik deelnemers hoe je die verbinding met natuur bewust kunt opzoeken – ook buiten de sessies. Het is een vaardigheid. Het gaat om diepe, innerlijke rust – en het leren vertragen op een manier die echt beklijft. Makkelijker gezegd dan gedaan, maar het is een vaardigheid die je kunt ontwikkelen.</p><p><strong>Bosbaden kan helpen bij:</strong></p><p>- Chronische stress en mentale vermoeidheid</p><p>- Moeite met ontspannen of “uitschakelen”</p><p>- Behoefte aan meer verbinding – met natuur, met jezelf, met anderen</p><p>- Slaapproblemen en een overactief hoofd</p><p><strong>Wat kun je verwachten?</strong></p><p>Een bosbadsessie is geen wandeling met een programma. Je baadt je zintuigen in de natuur – geluiden, geuren, texturen, licht. Langzaam activeert het parasympathische zenuwstelsel zich, en je voelt een rust die je misschien al een tijdje niet meer hebt gevoeld. Onderweg leer je kleine technieken om rust te vinden – dingen die je altijd bij je kunt dragen, ook op een drukke dinsdag.</p><p>Maar het belangrijkste? Er wordt niets van je verwacht. Je hoeft niets te presteren, nergens naartoe te komen. Het is genoeg om er gewoon te zijn.</p><p>Registratie is echter verplicht.</p><p>Välkommen! </p>
DESCRIPTION:<a href='/agenda/2026/6/19/vier-midzomer-in-het-arboretum-oostereng-met-een-zweedse-bosbadgids-1268140'>/agenda/2026/6/19/vier-midzomer-in-het-arboretum-oostereng-met-een-zweedse-bosbadgids-1268140</a> || <p>In Zweden vieren we Midsommar met bloemen in het haar, dans om een versierde paal en een dag vol natuur en samenzijn. Een feest dat draait om eenvoud, verbinding en buiten zijn.</p><p>Dit jaar nodig ik jullie uit om deze dag samen met mij te vieren – op z’n Zweeds, in het verborgen Arboretum Oostereng. Niet met dans, maar met een rustige onderdompeling in de zomerse natuur. Zintuigen open, hoofd leeg, zomer binnen. Je vertrekt rustiger en opgeladen – klaar voor de rest van de zomer.</p><p><strong>Bosbaden&nbsp;</strong>– of shinrin-yoku – is een Japanse praktijk waarbij je bewust en langzaam door de natuur beweegt. Niet om kilometers te maken, maar om echt aanwezig te zijn. Met alle zintuigen. Onderzoek laat zien dat regelmatig contact met natuur meetbare effecten heeft op onze gezondheid – en bosbaden is daar een begeleide, toegankelijke vorm van.</p><p>Als gecertificeerd bosbadgids leer ik deelnemers hoe je die verbinding met natuur bewust kunt opzoeken – ook buiten de sessies. Het is een vaardigheid. Het gaat om diepe, innerlijke rust – en het leren vertragen op een manier die echt beklijft. Makkelijker gezegd dan gedaan, maar het is een vaardigheid die je kunt ontwikkelen.</p><p><strong>Bosbaden kan helpen bij:</strong></p><p>- Chronische stress en mentale vermoeidheid</p><p>- Moeite met ontspannen of “uitschakelen”</p><p>- Behoefte aan meer verbinding – met natuur, met jezelf, met anderen</p><p>- Slaapproblemen en een overactief hoofd</p><p><strong>Wat kun je verwachten?</strong></p><p>Een bosbadsessie is geen wandeling met een programma. Je baadt je zintuigen in de natuur – geluiden, geuren, texturen, licht. Langzaam activeert het parasympathische zenuwstelsel zich, en je voelt een rust die je misschien al een tijdje niet meer hebt gevoeld. Onderweg leer je kleine technieken om rust te vinden – dingen die je altijd bij je kunt dragen, ook op een drukke dinsdag.</p><p>Maar het belangrijkste? Er wordt niets van je verwacht. Je hoeft niets te presteren, nergens naartoe te komen. Het is genoeg om er gewoon te zijn.</p><p>Registratie is echter verplicht.</p><p>Välkommen! </p>
LAST-MODIFIED:20260422T074607Z
LOCATION: Arboretum Oostereng | Keijenbergseweg 2 Wageningen
SEQUENCE:0
STATUS:CONFIRMED
SUMMARY:Vier midzomer in het Arboretum Oostereng met een Zweedse bosbadgids
TRANSP:OPAQUE
END:VEVENT
END:VCALENDAR
