BEGIN:VCALENDAR
PRODID:-//PUBBLE//agenda//NL
VERSION:2.0
METHOD:PUBLISH
BEGIN:VEVENT
DTSTART:20260422T073000Z
DTEND:20260422T090000Z
DTSTAMP:20260422T074036Z
UID:986b4f19-9671-4ced-97bc-1aace60f4c10
CREATED:20260422T074036Z
NAME:Mees maakt een nest met peuters en kleuters stadwageningen.nl
X-WR-CALNAME:Mees maakt een nest met peuters en kleuters
X-ALT-DESC;FMTTYPE=text/html:<a href='/agenda/2026/4/22/mees-maakt-een-nest-met-peuters-en-kleuters-1268572'>/agenda/2026/4/22/mees-maakt-een-nest-met-peuters-en-kleuters-1268572</a> || <p>Peuters en Kleuters in het Wild organiseert op woensdag 22 april van 9.30-11.00 uur een natuurontdekochtend in het bos bij Wageningen Hoog.</p><p>Luister naar het verhaal over een vogelnestje met eitjes. Help Mees met het maken van een nestje, het leggen van eieren in het nest en het zoeken naar eten voor de jonge vogeltjes. Een echt voorjaarsavontuur.</p><p>Mees maakt een nest is een ouder-kind-activiteit voor peuters en kleuters. Natuurlijk mag je ook met Opa, Oma of de buren komen. Deelname met 1 kind kost € 9,00, inclusief thee en fruit. Bij meer kinderen korting. De groep is klein, 4-10 kinderen.</p><p>Meld je uiterlijk 21 april 12.00 uur aan via https://spelonk-natuurbeleven.nl/peuters-in-het-wild/</p>
DESCRIPTION:<a href='/agenda/2026/4/22/mees-maakt-een-nest-met-peuters-en-kleuters-1268572'>/agenda/2026/4/22/mees-maakt-een-nest-met-peuters-en-kleuters-1268572</a> || <p>Peuters en Kleuters in het Wild organiseert op woensdag 22 april van 9.30-11.00 uur een natuurontdekochtend in het bos bij Wageningen Hoog.</p><p>Luister naar het verhaal over een vogelnestje met eitjes. Help Mees met het maken van een nestje, het leggen van eieren in het nest en het zoeken naar eten voor de jonge vogeltjes. Een echt voorjaarsavontuur.</p><p>Mees maakt een nest is een ouder-kind-activiteit voor peuters en kleuters. Natuurlijk mag je ook met Opa, Oma of de buren komen. Deelname met 1 kind kost € 9,00, inclusief thee en fruit. Bij meer kinderen korting. De groep is klein, 4-10 kinderen.</p><p>Meld je uiterlijk 21 april 12.00 uur aan via https://spelonk-natuurbeleven.nl/peuters-in-het-wild/</p>
LAST-MODIFIED:20260422T074036Z
LOCATION: Bos bij Wageningen Hoog | Marterlaan/Heidepark  Wageningen
SEQUENCE:0
STATUS:CONFIRMED
SUMMARY:Mees maakt een nest met peuters en kleuters
TRANSP:OPAQUE
END:VEVENT
END:VCALENDAR
