BEGIN:VCALENDAR
PRODID:-//PUBBLE//agenda//NL
VERSION:2.0
METHOD:PUBLISH
BEGIN:VEVENT
DTSTART:20260501T150000Z
DTEND:20260513T190000Z
DTSTAMP:20260422T073903Z
UID:cd78e684-49da-4000-833e-49fc39f457d3
CREATED:20260422T073903Z
NAME:Makers Popup: een gezellig Wageningse 2 daagse creatief evenement! stadwageningen.nl
X-WR-CALNAME:Makers Popup: een gezellig Wageningse 2 daagse creatief evenement!
X-ALT-DESC;FMTTYPE=text/html:<a href='/agenda/2026/5/1/makers-popup-een-gezellig-wageningse-2-daagse-creatief-evenement--1269108'>/agenda/2026/5/1/makers-popup-een-gezellig-wageningse-2-daagse-creatief-evenement--1269108</a> || <p>De Makers Pop-up Wageningen brengt op 1 en 2 mei lokale makers, kleine merken en creatieve ondernemers samen in NuDe Toekomst. Het is een kans om de mensen achter de producten te ontmoeten, unieke handgemaakte en met zorg gemaakte producten te ontdekken en kleine en lokale bedrijven op een persoonlijke manier te steunen. Als de allereerste Makers Pop-up in Wageningen wordt dit bijzondere evenement georganiseerd door de lokale kunstenaars Marina Stavrakaki (Painted by Marina) en Bhaggawent Kaur (love, KAUR). Van kunst en papierwaren tot sieraden, gebak en creatieve ervaringen: alles aan de pop-up draait om verhaal, ambacht en gemeenschap.Deze pop-up is een plek om te verbinden, inspiratie op te doen en de creativiteit binnen de Wageningen gemeenschap te vieren. Naast het kopen van lokale producten kunnen bezoekers genieten van optredens van lokale comedians, dj’s en muzikanten, deelnemen aan workshops van lokale kunstenaars en tarotreadings ervaren. Het wordt een warme en levendige bijeenkomst, speciaal ontworpen voor nieuwsgierige geesten, creatieve harten en iedereen die graag iets bijzonders ontdekt.</p>
DESCRIPTION:<a href='/agenda/2026/5/1/makers-popup-een-gezellig-wageningse-2-daagse-creatief-evenement--1269108'>/agenda/2026/5/1/makers-popup-een-gezellig-wageningse-2-daagse-creatief-evenement--1269108</a> || <p>De Makers Pop-up Wageningen brengt op 1 en 2 mei lokale makers, kleine merken en creatieve ondernemers samen in NuDe Toekomst. Het is een kans om de mensen achter de producten te ontmoeten, unieke handgemaakte en met zorg gemaakte producten te ontdekken en kleine en lokale bedrijven op een persoonlijke manier te steunen. Als de allereerste Makers Pop-up in Wageningen wordt dit bijzondere evenement georganiseerd door de lokale kunstenaars Marina Stavrakaki (Painted by Marina) en Bhaggawent Kaur (love, KAUR). Van kunst en papierwaren tot sieraden, gebak en creatieve ervaringen: alles aan de pop-up draait om verhaal, ambacht en gemeenschap.Deze pop-up is een plek om te verbinden, inspiratie op te doen en de creativiteit binnen de Wageningen gemeenschap te vieren. Naast het kopen van lokale producten kunnen bezoekers genieten van optredens van lokale comedians, dj’s en muzikanten, deelnemen aan workshops van lokale kunstenaars en tarotreadings ervaren. Het wordt een warme en levendige bijeenkomst, speciaal ontworpen voor nieuwsgierige geesten, creatieve harten en iedereen die graag iets bijzonders ontdekt.</p>
LAST-MODIFIED:20260422T073903Z
LOCATION: NuDeToekomst | Mennonietenweg 15A Wageningen
SEQUENCE:0
STATUS:CONFIRMED
SUMMARY:Makers Popup: een gezellig Wageningse 2 daagse creatief evenement!
TRANSP:OPAQUE
END:VEVENT
END:VCALENDAR
