BEGIN:VCALENDAR
PRODID:-//PUBBLE//agenda//NL
VERSION:2.0
METHOD:PUBLISH
BEGIN:VEVENT
DTSTART:20260613T180000Z
DTEND:20260613T200000Z
DTSTAMP:20260422T073548Z
UID:3a979e69-08a7-4d7f-a226-6e4659f68248
CREATED:20260422T073548Z
NAME:Muziek ontmoet wetenschap stadwageningen.nl
X-WR-CALNAME:Muziek ontmoet wetenschap
X-ALT-DESC;FMTTYPE=text/html:<a href='/agenda/2026/6/13/muziek-ontmoet-wetenschap-1269343'>/agenda/2026/6/13/muziek-ontmoet-wetenschap-1269343</a> || <p>Vanwege het overweldigende succes van de eerste editie organiseren we, op uitnodiging van rector magnificus Carolien Kroeze, op <strong>12 en 13 juni 2026 </strong>de tweede editie van ons SDG-concert in gebouw Omnia op de Wageningse campus. De Sustainable Development Goals (SDG’s) zijn zeventien doelen om van de wereld een betere plek te maken in 2030. Overal ter wereld wordt aan deze doelen gewerkt en uiteraard ook op de campus van Wageningen. Samen met het Wageningen Global Sustainability Programme organiseren we opnieuw een bijzonder SDG concert – immers, de es, de d en de g zijn ook muzieknoten!</p><p>Vier professoren, Edith Feskens, Sijmen Schoustra, Hester Biemans en Cathelijne Stoof, vertellen<strong>&nbsp;s</strong><strong>prankelende verhalen</strong>&nbsp;die te maken hebben met de SDG’s. Hoe kan een drinkyoghurt in Zambia bijdragen aan de emancipatie van vrouwen? Hoe kan het dat natuurbranden een steeds grotere impact hebben? Wist u dat de wereld een derde pool heeft, en hoe belangrijk die is voor de voedselvoorziening van miljoenen mensen? En hoe kan de wereld gezond eten?</p><p>De muziek draagt de boodschap van de wetenschappers verder uit. Zo worden de verhalen afgewisseld met de <strong>stralende opening van de opera Estrella van Berwald</strong>, het eigenzinnige&nbsp;<strong>T</strong><strong>rois morceaux en forme de poire van Erik Satie&nbsp;</strong>in orkestversie, het majestueuze&nbsp;<strong>vierde deel uit de Rheinische symfonie van Robert Schuma</strong>nn, de krachtige&nbsp;<strong>eerste ouverture van Louise Farrenc</strong>&nbsp;en de spectaculaire&nbsp;<strong>Ritual Fire Dance van Manuel de Falla.</strong></p><p>Wij verwelkomen u graag bij dit bijzondere evenement! Voorafgaand aan het concert is er de mogelijkheid te genieten van een luxe driegangendiner met lokale producten, geserveerd in restaurant Novum, ook in het gebouw Omnia. Op onze site is hierover meer informatie te vinden.</p><p><strong>Musici&nbsp;</strong>&nbsp; &nbsp; &nbsp; &nbsp; &nbsp; &nbsp; &nbsp; &nbsp; &nbsp; &nbsp; &nbsp; &nbsp; &nbsp; &nbsp; &nbsp; &nbsp; &nbsp; &nbsp; &nbsp; &nbsp; &nbsp; &nbsp; &nbsp; &nbsp; &nbsp; &nbsp; &nbsp; &nbsp; &nbsp; &nbsp; &nbsp; &nbsp; &nbsp; &nbsp; &nbsp; &nbsp; &nbsp; &nbsp; &nbsp; &nbsp; &nbsp; &nbsp; &nbsp; &nbsp; &nbsp; &nbsp; &nbsp; &nbsp; &nbsp; &nbsp; &nbsp; &nbsp; &nbsp; &nbsp; &nbsp; &nbsp; &nbsp; &nbsp; &nbsp; &nbsp; &nbsp; &nbsp; &nbsp; &nbsp; &nbsp; &nbsp; &nbsp; Symfonieorkest Sonante &nbsp; &nbsp; &nbsp; &nbsp; &nbsp; &nbsp; &nbsp; &nbsp; &nbsp; &nbsp; &nbsp; &nbsp; &nbsp; &nbsp; &nbsp; &nbsp; &nbsp; &nbsp; &nbsp; &nbsp; &nbsp; &nbsp; &nbsp; &nbsp; &nbsp; &nbsp; &nbsp; &nbsp; &nbsp; &nbsp; &nbsp; &nbsp; &nbsp; &nbsp; &nbsp; &nbsp; &nbsp; &nbsp; &nbsp; &nbsp; &nbsp; &nbsp; &nbsp; &nbsp; &nbsp; &nbsp; &nbsp; &nbsp; &nbsp; &nbsp; &nbsp; &nbsp; &nbsp; &nbsp; &nbsp; &nbsp; &nbsp; &nbsp; &nbsp; Mark Snitselaar dirigent &nbsp; &nbsp; &nbsp;&nbsp;</p><p><strong>Concertdata</strong></p><p>vrijdag 12 en zaterdag 13 juni 20.00 uur</p><p>Wageningen Universiteit Campus gebouw Omnia</p><p>Hogesteeg 2</p><p>6708 PH Wageningen</p><p>kaarten 15 euro; evt. met luxe driegangendiner 70 euro incl. drank vooraf</p><p>via www.sonante.nl&nbsp; &nbsp; &nbsp; &nbsp; &nbsp; &nbsp; &nbsp; &nbsp; &nbsp; &nbsp; &nbsp; &nbsp; &nbsp; &nbsp; &nbsp; &nbsp; &nbsp; &nbsp; &nbsp; &nbsp; &nbsp; &nbsp; &nbsp; &nbsp; &nbsp; &nbsp; &nbsp; &nbsp; &nbsp; &nbsp; &nbsp; &nbsp; &nbsp; &nbsp; &nbsp; &nbsp; &nbsp; &nbsp; &nbsp; &nbsp;</p>
DESCRIPTION:<a href='/agenda/2026/6/13/muziek-ontmoet-wetenschap-1269343'>/agenda/2026/6/13/muziek-ontmoet-wetenschap-1269343</a> || <p>Vanwege het overweldigende succes van de eerste editie organiseren we, op uitnodiging van rector magnificus Carolien Kroeze, op <strong>12 en 13 juni 2026 </strong>de tweede editie van ons SDG-concert in gebouw Omnia op de Wageningse campus. De Sustainable Development Goals (SDG’s) zijn zeventien doelen om van de wereld een betere plek te maken in 2030. Overal ter wereld wordt aan deze doelen gewerkt en uiteraard ook op de campus van Wageningen. Samen met het Wageningen Global Sustainability Programme organiseren we opnieuw een bijzonder SDG concert – immers, de es, de d en de g zijn ook muzieknoten!</p><p>Vier professoren, Edith Feskens, Sijmen Schoustra, Hester Biemans en Cathelijne Stoof, vertellen<strong>&nbsp;s</strong><strong>prankelende verhalen</strong>&nbsp;die te maken hebben met de SDG’s. Hoe kan een drinkyoghurt in Zambia bijdragen aan de emancipatie van vrouwen? Hoe kan het dat natuurbranden een steeds grotere impact hebben? Wist u dat de wereld een derde pool heeft, en hoe belangrijk die is voor de voedselvoorziening van miljoenen mensen? En hoe kan de wereld gezond eten?</p><p>De muziek draagt de boodschap van de wetenschappers verder uit. Zo worden de verhalen afgewisseld met de <strong>stralende opening van de opera Estrella van Berwald</strong>, het eigenzinnige&nbsp;<strong>T</strong><strong>rois morceaux en forme de poire van Erik Satie&nbsp;</strong>in orkestversie, het majestueuze&nbsp;<strong>vierde deel uit de Rheinische symfonie van Robert Schuma</strong>nn, de krachtige&nbsp;<strong>eerste ouverture van Louise Farrenc</strong>&nbsp;en de spectaculaire&nbsp;<strong>Ritual Fire Dance van Manuel de Falla.</strong></p><p>Wij verwelkomen u graag bij dit bijzondere evenement! Voorafgaand aan het concert is er de mogelijkheid te genieten van een luxe driegangendiner met lokale producten, geserveerd in restaurant Novum, ook in het gebouw Omnia. Op onze site is hierover meer informatie te vinden.</p><p><strong>Musici&nbsp;</strong>&nbsp; &nbsp; &nbsp; &nbsp; &nbsp; &nbsp; &nbsp; &nbsp; &nbsp; &nbsp; &nbsp; &nbsp; &nbsp; &nbsp; &nbsp; &nbsp; &nbsp; &nbsp; &nbsp; &nbsp; &nbsp; &nbsp; &nbsp; &nbsp; &nbsp; &nbsp; &nbsp; &nbsp; &nbsp; &nbsp; &nbsp; &nbsp; &nbsp; &nbsp; &nbsp; &nbsp; &nbsp; &nbsp; &nbsp; &nbsp; &nbsp; &nbsp; &nbsp; &nbsp; &nbsp; &nbsp; &nbsp; &nbsp; &nbsp; &nbsp; &nbsp; &nbsp; &nbsp; &nbsp; &nbsp; &nbsp; &nbsp; &nbsp; &nbsp; &nbsp; &nbsp; &nbsp; &nbsp; &nbsp; &nbsp; &nbsp; &nbsp; Symfonieorkest Sonante &nbsp; &nbsp; &nbsp; &nbsp; &nbsp; &nbsp; &nbsp; &nbsp; &nbsp; &nbsp; &nbsp; &nbsp; &nbsp; &nbsp; &nbsp; &nbsp; &nbsp; &nbsp; &nbsp; &nbsp; &nbsp; &nbsp; &nbsp; &nbsp; &nbsp; &nbsp; &nbsp; &nbsp; &nbsp; &nbsp; &nbsp; &nbsp; &nbsp; &nbsp; &nbsp; &nbsp; &nbsp; &nbsp; &nbsp; &nbsp; &nbsp; &nbsp; &nbsp; &nbsp; &nbsp; &nbsp; &nbsp; &nbsp; &nbsp; &nbsp; &nbsp; &nbsp; &nbsp; &nbsp; &nbsp; &nbsp; &nbsp; &nbsp; &nbsp; Mark Snitselaar dirigent &nbsp; &nbsp; &nbsp;&nbsp;</p><p><strong>Concertdata</strong></p><p>vrijdag 12 en zaterdag 13 juni 20.00 uur</p><p>Wageningen Universiteit Campus gebouw Omnia</p><p>Hogesteeg 2</p><p>6708 PH Wageningen</p><p>kaarten 15 euro; evt. met luxe driegangendiner 70 euro incl. drank vooraf</p><p>via www.sonante.nl&nbsp; &nbsp; &nbsp; &nbsp; &nbsp; &nbsp; &nbsp; &nbsp; &nbsp; &nbsp; &nbsp; &nbsp; &nbsp; &nbsp; &nbsp; &nbsp; &nbsp; &nbsp; &nbsp; &nbsp; &nbsp; &nbsp; &nbsp; &nbsp; &nbsp; &nbsp; &nbsp; &nbsp; &nbsp; &nbsp; &nbsp; &nbsp; &nbsp; &nbsp; &nbsp; &nbsp; &nbsp; &nbsp; &nbsp; &nbsp;</p>
LAST-MODIFIED:20260422T073548Z
LOCATION: Wageningen University & Research | Droevendaalsesteeg 4 Wageningen
SEQUENCE:0
STATUS:CONFIRMED
SUMMARY:Muziek ontmoet wetenschap
TRANSP:OPAQUE
END:VEVENT
END:VCALENDAR
