BEGIN:VCALENDAR
PRODID:-//PUBBLE//agenda//NL
VERSION:2.0
METHOD:PUBLISH
BEGIN:VEVENT
DTSTART:20260507T080000Z
DTEND:20260507T100000Z
DTSTAMP:20260422T074036Z
UID:27da81f1-e91a-494c-b1a2-b5c7b86a79bd
CREATED:20260422T074036Z
NAME:Ga mee op proefreis met het openbaar vervoer in Wageningen stadwageningen.nl
X-WR-CALNAME:Ga mee op proefreis met het openbaar vervoer in Wageningen
X-ALT-DESC;FMTTYPE=text/html:<a href='/agenda/2026/5/7/ga-mee-op-proefreis-met-het-openbaar-vervoer-in-wageningen-1269400'>/agenda/2026/5/7/ga-mee-op-proefreis-met-het-openbaar-vervoer-in-wageningen-1269400</a> || <p>Plannen voor een dagje uit, maar is reizen met het openbaar vervoer niet (meer) vanzelfsprekend? Onzekerheid na lange tijd niet met bus of trein te hebben gereisd, kan een drempel vormen om op pad te gaan. De proefreis biedt een laagdrempelige en prettige manier om het reizen met het openbaar vervoer weer te oefenen, samen met een ervaren OV-ambassadeur. De volgende OV-proefreis wordt gehouden op:</p><p>Wanneer: donderdag 7 mei 2026 Waar: Wageningen</p><p>Startplaats en -tijd: Na aanmelding wordt de exacte opstapplaats en aanvangstijd gedeeld</p><p>Meenemen: OV-chipkaart en/of bankpas waarmee contactloos kan worden betaald</p><p>Inge (67 jaar): “Samen met een OV-ambassadeur heb ik de reisplanner-app en OVpay op m’n telefoon gezet en ermee geoefend. Nu reis ik regelmatig met de bus naar de stad.”</p><p>De OV-ambassadeur kiest een traject waarbij er met zowel de trein als met de bus wordt gereisd. Tijdens de reis wordt alles uitgebreid uitgelegd en er is voldoende tijd om vragen te stellen. De proefreis geeft vertrouwen om daarna zelfstandig te kunnen reizen.</p><p>Behoefte aan al meer informatie of wilt u uw vragen kwijt bij een OV-ambassadeur? Op woensdag 13 mei van 10.00 tot 11.30 uur kan men terecht bij het gratis OV-inloopspreekuur bij De Bblthk, Stationsstraat 2.</p><p>Aanmelden</p><p>Deelname aan de proefreis is gratis, de reiskosten zijn voor eigen rekening. Aanmelden kan via ov-ambassadeur@ervaarhetov.nl, door te bellen naar 038 – 45 40 130 en via de website www.ervaarhetov.nl/ov-ambassadeur</p>
DESCRIPTION:<a href='/agenda/2026/5/7/ga-mee-op-proefreis-met-het-openbaar-vervoer-in-wageningen-1269400'>/agenda/2026/5/7/ga-mee-op-proefreis-met-het-openbaar-vervoer-in-wageningen-1269400</a> || <p>Plannen voor een dagje uit, maar is reizen met het openbaar vervoer niet (meer) vanzelfsprekend? Onzekerheid na lange tijd niet met bus of trein te hebben gereisd, kan een drempel vormen om op pad te gaan. De proefreis biedt een laagdrempelige en prettige manier om het reizen met het openbaar vervoer weer te oefenen, samen met een ervaren OV-ambassadeur. De volgende OV-proefreis wordt gehouden op:</p><p>Wanneer: donderdag 7 mei 2026 Waar: Wageningen</p><p>Startplaats en -tijd: Na aanmelding wordt de exacte opstapplaats en aanvangstijd gedeeld</p><p>Meenemen: OV-chipkaart en/of bankpas waarmee contactloos kan worden betaald</p><p>Inge (67 jaar): “Samen met een OV-ambassadeur heb ik de reisplanner-app en OVpay op m’n telefoon gezet en ermee geoefend. Nu reis ik regelmatig met de bus naar de stad.”</p><p>De OV-ambassadeur kiest een traject waarbij er met zowel de trein als met de bus wordt gereisd. Tijdens de reis wordt alles uitgebreid uitgelegd en er is voldoende tijd om vragen te stellen. De proefreis geeft vertrouwen om daarna zelfstandig te kunnen reizen.</p><p>Behoefte aan al meer informatie of wilt u uw vragen kwijt bij een OV-ambassadeur? Op woensdag 13 mei van 10.00 tot 11.30 uur kan men terecht bij het gratis OV-inloopspreekuur bij De Bblthk, Stationsstraat 2.</p><p>Aanmelden</p><p>Deelname aan de proefreis is gratis, de reiskosten zijn voor eigen rekening. Aanmelden kan via ov-ambassadeur@ervaarhetov.nl, door te bellen naar 038 – 45 40 130 en via de website www.ervaarhetov.nl/ov-ambassadeur</p>
LAST-MODIFIED:20260422T074036Z
LOCATION: BBLTHK | Stationsstraat 2 Wageningen
SEQUENCE:0
STATUS:CONFIRMED
SUMMARY:Ga mee op proefreis met het openbaar vervoer in Wageningen
TRANSP:OPAQUE
END:VEVENT
END:VCALENDAR
