BEGIN:VCALENDAR
PRODID:-//PUBBLE//agenda//NL
VERSION:2.0
METHOD:PUBLISH
BEGIN:VEVENT
DTSTART:20260509T080000Z
DTEND:20260509T143000Z
DTSTAMP:20260422T073042Z
UID:7ca80c43-c85f-41e9-80d8-b6a30d3d3ddc
CREATED:20260422T073042Z
NAME:Zangworkshop met Anadya stadwageningen.nl
X-WR-CALNAME:Zangworkshop met Anadya
X-ALT-DESC;FMTTYPE=text/html:<a href='/agenda/2026/5/9/zangworkshop-met-anadya-1269650'>/agenda/2026/5/9/zangworkshop-met-anadya-1269650</a> || <p>Lente zangdag - Let’s sing!</p><p>“I like the joy of the simple things coming from the Earth.<br>I like the joy of the sun that shines and the water speak to me.<br>Listen to the wind, listen to the water, hear what thay say;<br>Singing heya, heya, heya, heya, heya, heya ho.”&nbsp;</p><p>Een dag zingen met elkaar, heerlijk in het voorjaar. Gewoon, omdat het zo fijn is om samen te zingen!Voor iedereen (m/v) die fijn een dagje op stap wil in de wereld van samenklank.</p><p>We beginnen met een warming-up, stem- en ademoefeningen, inzingen. Zingen doe je met je hele lijf!En dan een aantal liederen leren en samen laten klinken.</p><p>Zingen “van binnenuit” met aandacht voor expressie en overbrengen wat we zingen. Zingend “naar binnen”, zodat je in contact komt met jouw levensenergie en vreugde.</p><p>De liederen zijn redelijk eenvoudig, een- tot drie- of vierstemmig. Denk dan aan Vrijeschool-liederen, liederen uit de traditie van Taizé, mantra’s en wereldmuziek.</p><p>Enige zang- of koorervaring is gewenst. Je hoeft geen bladmuziek te kunnen lezen.</p><p>Meer informatie vind je op https://www.anadya.nl/zangdag/</p>
DESCRIPTION:<a href='/agenda/2026/5/9/zangworkshop-met-anadya-1269650'>/agenda/2026/5/9/zangworkshop-met-anadya-1269650</a> || <p>Lente zangdag - Let’s sing!</p><p>“I like the joy of the simple things coming from the Earth.<br>I like the joy of the sun that shines and the water speak to me.<br>Listen to the wind, listen to the water, hear what thay say;<br>Singing heya, heya, heya, heya, heya, heya ho.”&nbsp;</p><p>Een dag zingen met elkaar, heerlijk in het voorjaar. Gewoon, omdat het zo fijn is om samen te zingen!Voor iedereen (m/v) die fijn een dagje op stap wil in de wereld van samenklank.</p><p>We beginnen met een warming-up, stem- en ademoefeningen, inzingen. Zingen doe je met je hele lijf!En dan een aantal liederen leren en samen laten klinken.</p><p>Zingen “van binnenuit” met aandacht voor expressie en overbrengen wat we zingen. Zingend “naar binnen”, zodat je in contact komt met jouw levensenergie en vreugde.</p><p>De liederen zijn redelijk eenvoudig, een- tot drie- of vierstemmig. Denk dan aan Vrijeschool-liederen, liederen uit de traditie van Taizé, mantra’s en wereldmuziek.</p><p>Enige zang- of koorervaring is gewenst. Je hoeft geen bladmuziek te kunnen lezen.</p><p>Meer informatie vind je op https://www.anadya.nl/zangdag/</p>
LAST-MODIFIED:20260422T073042Z
LOCATION: Vrije School de Zwaneridder | Voorburglaan 72 Wageningen
SEQUENCE:0
STATUS:CONFIRMED
SUMMARY:Zangworkshop met Anadya
TRANSP:OPAQUE
END:VEVENT
END:VCALENDAR
