BEGIN:VCALENDAR
PRODID:-//PUBBLE//agenda//NL
VERSION:2.0
METHOD:PUBLISH
BEGIN:VEVENT
DTSTART:20260512T173000Z
DTEND:20260519T071400Z
DTSTAMP:20260422T074153Z
UID:5e76541c-c9b2-43d3-94b0-6b92ab8f1147
CREATED:20260422T074153Z
NAME:Open repetities Songs from the Heart stadwageningen.nl
X-WR-CALNAME:Open repetities Songs from the Heart
X-ALT-DESC;FMTTYPE=text/html:<a href='/agenda/2026/5/12/open-repetities-songs-from-the-heart-1269679'>/agenda/2026/5/12/open-repetities-songs-from-the-heart-1269679</a> || <p>Het koor Songs from the Heart heeft plaats voor een bas, een tenor en een sopraan. Op dinsdagavond 12 en 19 mei ben je van harte welkom om een open repetitieavond bij te wonen. De repetities vinden plaats van 19:30 tot 21:30 in De Hoge Born, Bornesteeg 87 Wageningen. Aanmelden vooraf wordt op prijs gesteld: <a href="mailto:info@songsfromtheheartkoor.nl">info@songsfromtheheartkoor.nl</a>.</p><p>Wil je voelen hoe het is om jouw stem te laten horen in harmonie met de stemmen van zo veel anderen? Wil je de verbindende kracht ervaren van samen zingen? Kom dan kijken, luisteren en meezingen op een van deze open repetitieavonden. Songs from the Heart zingt over leven, liefde, licht en vrede. Muziek uit verschillende culturen, liederen in verschillende talen. Het koor telt 30 leden en wordt geleid door de bevlogen dirigente Anadya Kock-Wouters. Meer informatie vind je op www.songsfromtheheartkoor.nl.</p>
DESCRIPTION:<a href='/agenda/2026/5/12/open-repetities-songs-from-the-heart-1269679'>/agenda/2026/5/12/open-repetities-songs-from-the-heart-1269679</a> || <p>Het koor Songs from the Heart heeft plaats voor een bas, een tenor en een sopraan. Op dinsdagavond 12 en 19 mei ben je van harte welkom om een open repetitieavond bij te wonen. De repetities vinden plaats van 19:30 tot 21:30 in De Hoge Born, Bornesteeg 87 Wageningen. Aanmelden vooraf wordt op prijs gesteld: <a href="mailto:info@songsfromtheheartkoor.nl">info@songsfromtheheartkoor.nl</a>.</p><p>Wil je voelen hoe het is om jouw stem te laten horen in harmonie met de stemmen van zo veel anderen? Wil je de verbindende kracht ervaren van samen zingen? Kom dan kijken, luisteren en meezingen op een van deze open repetitieavonden. Songs from the Heart zingt over leven, liefde, licht en vrede. Muziek uit verschillende culturen, liederen in verschillende talen. Het koor telt 30 leden en wordt geleid door de bevlogen dirigente Anadya Kock-Wouters. Meer informatie vind je op www.songsfromtheheartkoor.nl.</p>
LAST-MODIFIED:20260422T074153Z
LOCATION: De Hoge Born | Bornsesteeg 87 Wageningen
SEQUENCE:0
STATUS:CONFIRMED
SUMMARY:Open repetities Songs from the Heart
TRANSP:OPAQUE
END:VEVENT
END:VCALENDAR
