BEGIN:VCALENDAR
PRODID:-//PUBBLE//agenda//NL
VERSION:2.0
METHOD:PUBLISH
BEGIN:VEVENT
DTSTART:20260426T143000Z
DTEND:20260426T151600Z
DTSTAMP:20260422T072922Z
UID:1eeaa9e8-b8f2-4a09-bd87-9c50f6d10d42
CREATED:20260422T072922Z
NAME:Vesper in Jubelstemming stadwageningen.nl
X-WR-CALNAME:Vesper in Jubelstemming
X-ALT-DESC;FMTTYPE=text/html:<a href='/agenda/2026/4/26/vesper-in-jubelstemming-1270543'>/agenda/2026/4/26/vesper-in-jubelstemming-1270543</a> || <p>De Cantate “Kein Vogel kann im weiten Fliegen” van Georg Philipp Telemann wordt uitgevoerd.&nbsp;</p><p>De Bijbellezing &nbsp;uit 1 Korintiërs 12 nauw sluit aan op de Cantate. Er is een bijzondere versie van de Lofzang van Maria. Enkele liederen kunnen worden meegezongen. Er is ruimte voor stiltes en gebeden. Na de viering &nbsp;klinkt een Bach-aria uit Cantate BWV 117.</p><p>Liturg is Emmy Kwakkel. Muzikale ondersteuning wordt verleend door Mariska Wessel (alt), Martin Knotters (traverso) en Jonathan Kooman (orgel). De toegang is vrij. Bij de uitgang wordt gecollecteerd.</p>
DESCRIPTION:<a href='/agenda/2026/4/26/vesper-in-jubelstemming-1270543'>/agenda/2026/4/26/vesper-in-jubelstemming-1270543</a> || <p>De Cantate “Kein Vogel kann im weiten Fliegen” van Georg Philipp Telemann wordt uitgevoerd.&nbsp;</p><p>De Bijbellezing &nbsp;uit 1 Korintiërs 12 nauw sluit aan op de Cantate. Er is een bijzondere versie van de Lofzang van Maria. Enkele liederen kunnen worden meegezongen. Er is ruimte voor stiltes en gebeden. Na de viering &nbsp;klinkt een Bach-aria uit Cantate BWV 117.</p><p>Liturg is Emmy Kwakkel. Muzikale ondersteuning wordt verleend door Mariska Wessel (alt), Martin Knotters (traverso) en Jonathan Kooman (orgel). De toegang is vrij. Bij de uitgang wordt gecollecteerd.</p>
LAST-MODIFIED:20260422T072922Z
LOCATION: Grote Kerk Wageningen | Markt 1 Wageningen
SEQUENCE:0
STATUS:CONFIRMED
SUMMARY:Vesper in Jubelstemming
TRANSP:OPAQUE
END:VEVENT
END:VCALENDAR
