BEGIN:VCALENDAR
PRODID:-//PUBBLE//agenda//NL
VERSION:2.0
METHOD:PUBLISH
BEGIN:VEVENT
DTSTART:20260620T180000Z
DTEND:20260620T193000Z
DTSTAMP:20260422T074020Z
UID:2c3271f9-3e77-4a7d-b4b8-0aaf3a8e011d
CREATED:20260422T074020Z
NAME:Colors of Hendrix in de Grote Kerk stadwageningen.nl
X-WR-CALNAME:Colors of Hendrix in de Grote Kerk
X-ALT-DESC;FMTTYPE=text/html:<a href='/agenda/2026/6/20/colors-of-hendrix-in-de-grote-kerk-1270627'>/agenda/2026/6/20/colors-of-hendrix-in-de-grote-kerk-1270627</a> || <p>De leden van Het Orgel Trio moeten gedacht hebben dat het altijd nog verrassender kon... Na projecten waarin HOT alom geprezen werd voor hedendaagse hercomposities van jazzgrootheden als Charlie Parker en Duke Ellington, en vervolgens 400 jaar terug in de tijd ging met arrangementen van JP Sweelinck, presenteren ze nu hun unieke visie op het werk van bluesrocklegende Jimi Hendrix. Dit akoestische programma bevat geen scheurende of versterkte gitaren, maar laat in plaats daarvan de expressieve strijkers van de Catalaanse cellist Pau Sola Masafrets horen. Grootse orgelklanken vermengen zich met blueslicks in Foxey Lady. HOT verkent ook rustige momenten, zoals in Hey Joe, dat van heel klein naar heel groots en weer terug overgaat. In Voodoo Child bouwen minimalistische ritmische patronen op naar een bezwerend crescendo, dat de kerk vult met geïnspireerde adem. In het programma HOT Plays Hendrix putten de leden van Het Orgel Trio inspiratie uit het genie van de Amerikaanse gitaargigant, terwijl ze zichzelf tegelijkertijd geleidelijk opnieuw uitvinden. Steven Kamperman – klarinetten, Dion Nijland – contrabas, &nbsp;Berry van Berkum – orgel en Pau Sola Masafrets – cello<br>Zie: <a href="//www.flentroporgelwageningen.nl">www.flentroporgelwageningen.nl</a> en https://flentroporgelwageningen.nl/agenda-2026/</p>
DESCRIPTION:<a href='/agenda/2026/6/20/colors-of-hendrix-in-de-grote-kerk-1270627'>/agenda/2026/6/20/colors-of-hendrix-in-de-grote-kerk-1270627</a> || <p>De leden van Het Orgel Trio moeten gedacht hebben dat het altijd nog verrassender kon... Na projecten waarin HOT alom geprezen werd voor hedendaagse hercomposities van jazzgrootheden als Charlie Parker en Duke Ellington, en vervolgens 400 jaar terug in de tijd ging met arrangementen van JP Sweelinck, presenteren ze nu hun unieke visie op het werk van bluesrocklegende Jimi Hendrix. Dit akoestische programma bevat geen scheurende of versterkte gitaren, maar laat in plaats daarvan de expressieve strijkers van de Catalaanse cellist Pau Sola Masafrets horen. Grootse orgelklanken vermengen zich met blueslicks in Foxey Lady. HOT verkent ook rustige momenten, zoals in Hey Joe, dat van heel klein naar heel groots en weer terug overgaat. In Voodoo Child bouwen minimalistische ritmische patronen op naar een bezwerend crescendo, dat de kerk vult met geïnspireerde adem. In het programma HOT Plays Hendrix putten de leden van Het Orgel Trio inspiratie uit het genie van de Amerikaanse gitaargigant, terwijl ze zichzelf tegelijkertijd geleidelijk opnieuw uitvinden. Steven Kamperman – klarinetten, Dion Nijland – contrabas, &nbsp;Berry van Berkum – orgel en Pau Sola Masafrets – cello<br>Zie: <a href="//www.flentroporgelwageningen.nl">www.flentroporgelwageningen.nl</a> en https://flentroporgelwageningen.nl/agenda-2026/</p>
LAST-MODIFIED:20260422T074020Z
LOCATION: Grote Kerk | Markt 1 Wageningen
SEQUENCE:0
STATUS:CONFIRMED
SUMMARY:Colors of Hendrix in de Grote Kerk
TRANSP:OPAQUE
END:VEVENT
END:VCALENDAR
