BEGIN:VCALENDAR
PRODID:-//PUBBLE//agenda//NL
VERSION:2.0
METHOD:PUBLISH
BEGIN:VEVENT
DTSTART:20260423T173000Z
DTEND:20260423T183000Z
DTSTAMP:20260422T073822Z
UID:f7968469-4b13-42c9-a66a-972dfc6614e1
CREATED:20260422T073822Z
NAME:Minicursus libellen; leer meer van deze prachtige insecten stadwageningen.nl
X-WR-CALNAME:Minicursus libellen; leer meer van deze prachtige insecten
X-ALT-DESC;FMTTYPE=text/html:<a href='/agenda/2026/4/23/minicursus-libellen-leer-meer-van-deze-prachtige-insecten-1270753'>/agenda/2026/4/23/minicursus-libellen-leer-meer-van-deze-prachtige-insecten-1270753</a> || <p>Laat je verrassen door de schoonheid van libellen en waterjuffers. Ontdek dat er in onze omgeving een prachtige diversiteit van deze juweeltjes rondvliegen. Laat je meevoeren in de bijzondere levenswijze en geheimen van deze bijzondere insecten. Je hoeft er geen verstand van te hebben om deze cursus te volgen. Maar als je er al wat van weet, zul je ongetwijfeld veel hebben aan de tips om de verschillende soorten uit elkaar te houden. Aan de hand van detailfoto’s laat de enthousiaste KNNV-er Bart Heijne zien hoe schitterend deze insecten zijn. Iedereen is van harte welkom deze cursus mee te beleven. Kosten bedragen € 10,00; maak het bedrag over naar NL82 TRIO 0320 4519 33 t.n.v. KNNV Wageningen e.o., o.v.v. minicursus libellen. Maar de cursus is gratis voor leden van Natuurvereniging KNNV. Dus je kunt ook lid worden van onze gezellige vereniging (https://wageningen.knnv.nl/agenda/). Meer informatie en opgeven bij Bart Heijne, 06-5506 1023, vlinder.libel@wageningen-eo.knnv.nl</p>
DESCRIPTION:<a href='/agenda/2026/4/23/minicursus-libellen-leer-meer-van-deze-prachtige-insecten-1270753'>/agenda/2026/4/23/minicursus-libellen-leer-meer-van-deze-prachtige-insecten-1270753</a> || <p>Laat je verrassen door de schoonheid van libellen en waterjuffers. Ontdek dat er in onze omgeving een prachtige diversiteit van deze juweeltjes rondvliegen. Laat je meevoeren in de bijzondere levenswijze en geheimen van deze bijzondere insecten. Je hoeft er geen verstand van te hebben om deze cursus te volgen. Maar als je er al wat van weet, zul je ongetwijfeld veel hebben aan de tips om de verschillende soorten uit elkaar te houden. Aan de hand van detailfoto’s laat de enthousiaste KNNV-er Bart Heijne zien hoe schitterend deze insecten zijn. Iedereen is van harte welkom deze cursus mee te beleven. Kosten bedragen € 10,00; maak het bedrag over naar NL82 TRIO 0320 4519 33 t.n.v. KNNV Wageningen e.o., o.v.v. minicursus libellen. Maar de cursus is gratis voor leden van Natuurvereniging KNNV. Dus je kunt ook lid worden van onze gezellige vereniging (https://wageningen.knnv.nl/agenda/). Meer informatie en opgeven bij Bart Heijne, 06-5506 1023, vlinder.libel@wageningen-eo.knnv.nl</p>
LAST-MODIFIED:20260422T073822Z
LOCATION: Het Groene Wiel | Hendrikweg 14b Wageningen
SEQUENCE:0
STATUS:CONFIRMED
SUMMARY:Minicursus libellen; leer meer van deze prachtige insecten
TRANSP:OPAQUE
END:VEVENT
END:VCALENDAR
