BEGIN:VCALENDAR
PRODID:-//PUBBLE//agenda//NL
VERSION:2.0
METHOD:PUBLISH
BEGIN:VEVENT
DTSTART:20260503T120000Z
DTEND:20260503T133000Z
DTSTAMP:20260422T072952Z
UID:c79de565-330d-478f-b51f-267aca556e70
CREATED:20260422T072952Z
NAME:Middag vol Verhalen stadwageningen.nl
X-WR-CALNAME:Middag vol Verhalen
X-ALT-DESC;FMTTYPE=text/html:<a href='/agenda/2026/5/3/middag-vol-verhalen-1270800'>/agenda/2026/5/3/middag-vol-verhalen-1270800</a> || <p>Al eeuwen vertellen mensen elkaar verhalen en dat doen ze nog steeds. Op deze middag staan de verhalenvertellers in de (verbouwde) BBLTHK, samen met een cello-speelster.</p><p>Ga lekker zitten op de tribune en luister naar een literair verhaal over twee mensen die samen oud worden (of toch niet). Na de muziek, een volksverhaal uit India over Chandra en de olifanten. Het laatste verhaal komt uit Wales en gaat over twee broers die heel verschillend in het leven staan.&nbsp;</p><p>Vertelkring Eva Luna bestaat uit verhalenvertellers uit Wageningen en omgeving. Elke verteller heeft een eigen stijl en een eigen voorliefde voor bepaalde verhalen. <br><br>Meer informatie: https://www.vertelkring-evaluna.nl/</p><p>Natuurlijk voelen vertellers zich erg thuis in een bibliotheek. En sinds de verbouwing is de bibliotheek nog gezelliger. Wees welkom.</p><p>Toegang vrij, donatie welkom.
Natuurlijk is de bibliotheek ook toegankelijk voor wieltjes.</p>
DESCRIPTION:<a href='/agenda/2026/5/3/middag-vol-verhalen-1270800'>/agenda/2026/5/3/middag-vol-verhalen-1270800</a> || <p>Al eeuwen vertellen mensen elkaar verhalen en dat doen ze nog steeds. Op deze middag staan de verhalenvertellers in de (verbouwde) BBLTHK, samen met een cello-speelster.</p><p>Ga lekker zitten op de tribune en luister naar een literair verhaal over twee mensen die samen oud worden (of toch niet). Na de muziek, een volksverhaal uit India over Chandra en de olifanten. Het laatste verhaal komt uit Wales en gaat over twee broers die heel verschillend in het leven staan.&nbsp;</p><p>Vertelkring Eva Luna bestaat uit verhalenvertellers uit Wageningen en omgeving. Elke verteller heeft een eigen stijl en een eigen voorliefde voor bepaalde verhalen. <br><br>Meer informatie: https://www.vertelkring-evaluna.nl/</p><p>Natuurlijk voelen vertellers zich erg thuis in een bibliotheek. En sinds de verbouwing is de bibliotheek nog gezelliger. Wees welkom.</p><p>Toegang vrij, donatie welkom.
Natuurlijk is de bibliotheek ook toegankelijk voor wieltjes.</p>
LAST-MODIFIED:20260422T072952Z
LOCATION: BBLTHK | Stationsstraat 2 Wageningen
SEQUENCE:0
STATUS:CONFIRMED
SUMMARY:Middag vol Verhalen
TRANSP:OPAQUE
END:VEVENT
END:VCALENDAR
